BEGIN:VCALENDAR
VERSION:2.0
PRODID:-//Grenzblech - ECPv6.15.20//NONSGML v1.0//EN
CALSCALE:GREGORIAN
METHOD:PUBLISH
X-WR-CALNAME:Grenzblech
X-ORIGINAL-URL:https://grenzblech.de
X-WR-CALDESC:Veranstaltungen für Grenzblech
REFRESH-INTERVAL;VALUE=DURATION:PT1H
X-Robots-Tag:noindex
X-PUBLISHED-TTL:PT1H
BEGIN:VTIMEZONE
TZID:Europe/Berlin
BEGIN:DAYLIGHT
TZOFFSETFROM:+0100
TZOFFSETTO:+0200
TZNAME:CEST
DTSTART:20250330T010000
END:DAYLIGHT
BEGIN:STANDARD
TZOFFSETFROM:+0200
TZOFFSETTO:+0100
TZNAME:CET
DTSTART:20251026T010000
END:STANDARD
BEGIN:DAYLIGHT
TZOFFSETFROM:+0100
TZOFFSETTO:+0200
TZNAME:CEST
DTSTART:20260329T010000
END:DAYLIGHT
BEGIN:STANDARD
TZOFFSETFROM:+0200
TZOFFSETTO:+0100
TZNAME:CET
DTSTART:20261025T010000
END:STANDARD
BEGIN:DAYLIGHT
TZOFFSETFROM:+0100
TZOFFSETTO:+0200
TZNAME:CEST
DTSTART:20270328T010000
END:DAYLIGHT
BEGIN:STANDARD
TZOFFSETFROM:+0200
TZOFFSETTO:+0100
TZNAME:CET
DTSTART:20271031T010000
END:STANDARD
END:VTIMEZONE
BEGIN:VEVENT
DTSTART;TZID=Europe/Berlin:20260509T000000
DTEND;TZID=Europe/Berlin:20260509T235959
DTSTAMP:20260421T130649
CREATED:20260228T163331Z
LAST-MODIFIED:20260330T110533Z
UID:86-1778284800-1778371199@grenzblech.de
SUMMARY:Feuerwehrfest | Gansheim
DESCRIPTION:Am 09.05.2026 spielen wir in Gansheim das Feuerwehrfest. Die Veranstaltung ist öffentlich zugänglich. Der Eintritt ist frei.
URL:https://grenzblech.de/event/feuerwehrfest-gansheim/
END:VEVENT
BEGIN:VEVENT
DTSTART;TZID=Europe/Berlin:20260820T183000
DTEND;TZID=Europe/Berlin:20260820T213000
DTSTAMP:20260421T130649
CREATED:20260413T145456Z
LAST-MODIFIED:20260413T145604Z
UID:781-1787250600-1787261400@grenzblech.de
SUMMARY:Auftritt beim Hofwirt | Grenzblech (8er Besetzung)
DESCRIPTION:Am 20.08.2026 spielen wir beim Hofwirt das “Donnerstagsbrettl”. \nJeder kann kommen. Es ist eine öffentliche Veranstaltung und der Eintritt ist frei.
URL:https://grenzblech.de/event/auftritt-beim-hofwirt-grenzblech-8er-besetzung/
END:VEVENT
BEGIN:VEVENT
DTSTART;TZID=Europe/Berlin:20260828T180000
DTEND;TZID=Europe/Berlin:20260828T230000
DTSTAMP:20260421T130649
CREATED:20260413T145738Z
LAST-MODIFIED:20260413T145831Z
UID:783-1787940000-1787958000@grenzblech.de
SUMMARY:Unternehmerwiesen | Private Veranstaltung | Grenzblech (8er Besetzung)
DESCRIPTION:Am 28.08.2026 spielen wir eine Unternehmerwiesen in Schrobenhausen. \nDies ist eine private Veranstaltung\, also nicht öffentlich zugänglich.
URL:https://grenzblech.de/event/unternehmerwiesen-private-veranstaltung-grenzblech-8er-besetzung/
END:VEVENT
END:VCALENDAR